BEGIN:VCALENDAR
VERSION:2.0
PRODID:-//Tanzschule Reh Dresden - ECPv6.5.1.4//NONSGML v1.0//EN
CALSCALE:GREGORIAN
METHOD:PUBLISH
X-ORIGINAL-URL:https://www.tanzschule-reh.de
X-WR-CALDESC:Veranstaltungen für Tanzschule Reh Dresden
REFRESH-INTERVAL;VALUE=DURATION:PT1H
X-Robots-Tag:noindex
X-PUBLISHED-TTL:PT1H
BEGIN:VTIMEZONE
TZID:Europe/Berlin
BEGIN:DAYLIGHT
TZOFFSETFROM:+0100
TZOFFSETTO:+0200
TZNAME:CEST
DTSTART:20260329T010000
END:DAYLIGHT
BEGIN:STANDARD
TZOFFSETFROM:+0200
TZOFFSETTO:+0100
TZNAME:CET
DTSTART:20261025T010000
END:STANDARD
END:VTIMEZONE
BEGIN:VEVENT
DTSTART;TZID=Europe/Berlin:20260214T200000
DTEND;TZID=Europe/Berlin:20260214T230000
DTSTAMP:20260422T000427
CREATED:20191102T143559Z
LAST-MODIFIED:20260102T143937Z
UID:673-1771099200-1771110000@www.tanzschule-reh.de
SUMMARY:Tanzparty
DESCRIPTION:
URL:https://www.tanzschule-reh.de/kurse/tanzparty-5/
END:VEVENT
BEGIN:VEVENT
DTSTART;TZID=Europe/Berlin:20260223T181500
DTEND;TZID=Europe/Berlin:20260223T181500
DTSTAMP:20260422T000427
CREATED:20200923T173737Z
LAST-MODIFIED:20250930T075629Z
UID:871-1771870500-1771870500@www.tanzschule-reh.de
SUMMARY:Discofox-Anfängerkurs
DESCRIPTION:
URL:https://www.tanzschule-reh.de/kurse/discofox-anfaengerkurs-2/
END:VEVENT
BEGIN:VEVENT
DTSTART;TZID=Europe/Berlin:20260223T201500
DTEND;TZID=Europe/Berlin:20260223T210000
DTSTAMP:20260422T000427
CREATED:20250930T080914Z
LAST-MODIFIED:20250930T081014Z
UID:82453-1771877700-1771880400@www.tanzschule-reh.de
SUMMARY:Salsa Fortschrittkurs
DESCRIPTION:
URL:https://www.tanzschule-reh.de/kurse/salsa-fortschrittkurs/
END:VEVENT
BEGIN:VEVENT
DTSTART;TZID=Europe/Berlin:20260226T174500
DTEND;TZID=Europe/Berlin:20260226T174500
DTSTAMP:20260422T000427
CREATED:20230706T174409Z
LAST-MODIFIED:20260121T100357Z
UID:14701-1772127900-1772127900@www.tanzschule-reh.de
SUMMARY:Lady Styling
DESCRIPTION:
URL:https://www.tanzschule-reh.de/kurse/lady-styling-4/
END:VEVENT
END:VCALENDAR