BEGIN:VCALENDAR
VERSION:2.0
PRODID:-//Tanzschule Reh Dresden - ECPv6.5.1.4//NONSGML v1.0//EN
CALSCALE:GREGORIAN
METHOD:PUBLISH
X-ORIGINAL-URL:https://www.tanzschule-reh.de
X-WR-CALDESC:Veranstaltungen für Tanzschule Reh Dresden
REFRESH-INTERVAL;VALUE=DURATION:PT1H
X-Robots-Tag:noindex
X-PUBLISHED-TTL:PT1H
BEGIN:VTIMEZONE
TZID:Europe/Berlin
BEGIN:DAYLIGHT
TZOFFSETFROM:+0100
TZOFFSETTO:+0200
TZNAME:CEST
DTSTART:20260329T010000
END:DAYLIGHT
BEGIN:STANDARD
TZOFFSETFROM:+0200
TZOFFSETTO:+0100
TZNAME:CET
DTSTART:20261025T010000
END:STANDARD
BEGIN:DAYLIGHT
TZOFFSETFROM:+0100
TZOFFSETTO:+0200
TZNAME:CEST
DTSTART:20270328T010000
END:DAYLIGHT
BEGIN:STANDARD
TZOFFSETFROM:+0200
TZOFFSETTO:+0100
TZNAME:CET
DTSTART:20271031T010000
END:STANDARD
END:VTIMEZONE
BEGIN:VEVENT
DTSTART;TZID=Europe/Berlin:20260911T184500
DTEND;TZID=Europe/Berlin:20260911T193000
DTSTAMP:20260422T032243
CREATED:20211104T101822Z
LAST-MODIFIED:20260326T053401Z
UID:1316-1789152300-1789155000@www.tanzschule-reh.de
SUMMARY:Discofox-Anfängerkurs
DESCRIPTION:
URL:https://www.tanzschule-reh.de/kurse/discofox-anfaengerkurs-4/
END:VEVENT
BEGIN:VEVENT
DTSTART;TZID=Europe/Berlin:20260928T201500
DTEND;TZID=Europe/Berlin:20260928T210000
DTSTAMP:20260422T032243
CREATED:20221109T132424Z
LAST-MODIFIED:20260326T052828Z
UID:14376-1790626500-1790629200@www.tanzschule-reh.de
SUMMARY:Salsa Fortgeschrittene
DESCRIPTION:
URL:https://www.tanzschule-reh.de/kurse/salsa-fortgeschrittene/
END:VEVENT
BEGIN:VEVENT
DTSTART;TZID=Europe/Berlin:20261029T201500
DTEND;TZID=Europe/Berlin:20261029T201500
DTSTAMP:20260422T032243
CREATED:20221115T140234Z
LAST-MODIFIED:20260326T053753Z
UID:14402-1793304900-1793304900@www.tanzschule-reh.de
SUMMARY:Discofox für Fortgeschrittene
DESCRIPTION:
URL:https://www.tanzschule-reh.de/kurse/discofox-fuer-fortgeschrittene-3/
END:VEVENT
BEGIN:VEVENT
DTSTART;TZID=Europe/Berlin:20261030T201500
DTEND;TZID=Europe/Berlin:20261030T220000
DTSTAMP:20260422T032243
CREATED:20221109T134900Z
LAST-MODIFIED:20260326T053922Z
UID:14382-1793391300-1793397600@www.tanzschule-reh.de
SUMMARY:Gesellschaftstanz für Anfänger
DESCRIPTION:
URL:https://www.tanzschule-reh.de/kurse/gesellschaftstanz-fuer-anfaenger/
END:VEVENT
BEGIN:VEVENT
DTSTART;TZID=Europe/Berlin:20261107T100000
DTEND;TZID=Europe/Berlin:20261108T130000
DTSTAMP:20260422T032243
CREATED:20241022T095845Z
LAST-MODIFIED:20260415T094911Z
UID:82289-1794045600-1794142800@www.tanzschule-reh.de
SUMMARY:Discofox am Wochenende
DESCRIPTION:
URL:https://www.tanzschule-reh.de/kurse/discofox-am-wochenende/
END:VEVENT
BEGIN:VEVENT
DTSTART;TZID=Europe/Berlin:20270313T100000
DTEND;TZID=Europe/Berlin:20270314T140000
DTSTAMP:20260422T032243
CREATED:20231124T082258Z
LAST-MODIFIED:20260326T053844Z
UID:16656-1804932000-1805032800@www.tanzschule-reh.de
SUMMARY:Gesellschaftstanz am Wochenende
DESCRIPTION:
URL:https://www.tanzschule-reh.de/kurse/gesellschaftstanz-am-wochenende/
END:VEVENT
END:VCALENDAR