BEGIN:VCALENDAR
VERSION:2.0
PRODID:-//Tanzschule Reh Dresden - ECPv6.5.1.4//NONSGML v1.0//EN
CALSCALE:GREGORIAN
METHOD:PUBLISH
X-ORIGINAL-URL:https://www.tanzschule-reh.de
X-WR-CALDESC:Veranstaltungen für Tanzschule Reh Dresden
REFRESH-INTERVAL;VALUE=DURATION:PT1H
X-Robots-Tag:noindex
X-PUBLISHED-TTL:PT1H
BEGIN:VTIMEZONE
TZID:Europe/Berlin
BEGIN:DAYLIGHT
TZOFFSETFROM:+0100
TZOFFSETTO:+0200
TZNAME:CEST
DTSTART:20260329T010000
END:DAYLIGHT
BEGIN:STANDARD
TZOFFSETFROM:+0200
TZOFFSETTO:+0100
TZNAME:CET
DTSTART:20261025T010000
END:STANDARD
BEGIN:DAYLIGHT
TZOFFSETFROM:+0100
TZOFFSETTO:+0200
TZNAME:CEST
DTSTART:20270328T010000
END:DAYLIGHT
BEGIN:STANDARD
TZOFFSETFROM:+0200
TZOFFSETTO:+0100
TZNAME:CET
DTSTART:20271031T010000
END:STANDARD
END:VTIMEZONE
BEGIN:VEVENT
DTSTART;TZID=Europe/Berlin:20260506T201500
DTEND;TZID=Europe/Berlin:20270513T214500
DTSTAMP:20260423T214335
CREATED:20180427T100039Z
LAST-MODIFIED:20250930T080750Z
UID:345-1778098500-1810244700@www.tanzschule-reh.de
SUMMARY:Hochzeitstanzkurs
DESCRIPTION:
URL:https://www.tanzschule-reh.de/kurse/hochzeitstanzkurs-4/
CATEGORIES:Gesellschaftstanz
END:VEVENT
BEGIN:VEVENT
DTSTART;TZID=Europe/Berlin:20260824T201500
DTEND;TZID=Europe/Berlin:20260921T210000
DTSTAMP:20260423T214335
CREATED:20181222T002326Z
LAST-MODIFIED:20260326T052742Z
UID:448-1787602500-1790024400@www.tanzschule-reh.de
SUMMARY:Salsa Anfängerkurs
DESCRIPTION:
URL:https://www.tanzschule-reh.de/kurse/salsa-kurs/
END:VEVENT
BEGIN:VEVENT
DTSTART;TZID=Europe/Berlin:20260910T201500
DTEND;TZID=Europe/Berlin:20260910T210000
DTSTAMP:20260423T214335
CREATED:20221115T140328Z
LAST-MODIFIED:20260326T053147Z
UID:14404-1789071300-1789074000@www.tanzschule-reh.de
SUMMARY:Discofox für Fortgeschrittene
DESCRIPTION:
URL:https://www.tanzschule-reh.de/kurse/discofox-fuer-fortgeschrittene-4/
END:VEVENT
END:VCALENDAR