BEGIN:VCALENDAR
VERSION:2.0
PRODID:-//Tanzschule Reh Dresden - ECPv6.5.1.4//NONSGML v1.0//EN
CALSCALE:GREGORIAN
METHOD:PUBLISH
X-WR-CALNAME:Tanzschule Reh Dresden
X-ORIGINAL-URL:https://www.tanzschule-reh.de
X-WR-CALDESC:Veranstaltungen für Tanzschule Reh Dresden
REFRESH-INTERVAL;VALUE=DURATION:PT1H
X-Robots-Tag:noindex
X-PUBLISHED-TTL:PT1H
BEGIN:VTIMEZONE
TZID:Europe/Berlin
BEGIN:DAYLIGHT
TZOFFSETFROM:+0100
TZOFFSETTO:+0200
TZNAME:CEST
DTSTART:20260329T010000
END:DAYLIGHT
BEGIN:STANDARD
TZOFFSETFROM:+0200
TZOFFSETTO:+0100
TZNAME:CET
DTSTART:20261025T010000
END:STANDARD
END:VTIMEZONE
BEGIN:VEVENT
DTSTART;TZID=Europe/Berlin:20260416T174500
DTEND;TZID=Europe/Berlin:20260416T184500
DTSTAMP:20260421T220927
CREATED:20230706T174327Z
LAST-MODIFIED:20260121T100435Z
UID:14699-1776361500-1776365100@www.tanzschule-reh.de
SUMMARY:Lady-Styling
DESCRIPTION:
URL:https://www.tanzschule-reh.de/kurse/lady-styling-3/
END:VEVENT
BEGIN:VEVENT
DTSTART;TZID=Europe/Berlin:20260416T201500
DTEND;TZID=Europe/Berlin:20260416T210000
DTSTAMP:20260421T220927
CREATED:20200115T110357Z
LAST-MODIFIED:20250930T080420Z
UID:777-1776370500-1776373200@www.tanzschule-reh.de
SUMMARY:Discofox für Fortgeschrittene
DESCRIPTION:
URL:https://www.tanzschule-reh.de/kurse/discofox-fuer-fortgeschrittene/
END:VEVENT
END:VCALENDAR