BEGIN:VCALENDAR
VERSION:2.0
PRODID:-//Tanzschule Reh Dresden - ECPv6.5.1.4//NONSGML v1.0//EN
CALSCALE:GREGORIAN
METHOD:PUBLISH
X-ORIGINAL-URL:https://www.tanzschule-reh.de
X-WR-CALDESC:Veranstaltungen für Tanzschule Reh Dresden
REFRESH-INTERVAL;VALUE=DURATION:PT1H
X-Robots-Tag:noindex
X-PUBLISHED-TTL:PT1H
BEGIN:VTIMEZONE
TZID:Europe/Berlin
BEGIN:DAYLIGHT
TZOFFSETFROM:+0100
TZOFFSETTO:+0200
TZNAME:CEST
DTSTART:20260329T010000
END:DAYLIGHT
BEGIN:STANDARD
TZOFFSETFROM:+0200
TZOFFSETTO:+0100
TZNAME:CET
DTSTART:20261025T010000
END:STANDARD
END:VTIMEZONE
BEGIN:VEVENT
DTSTART;TZID=Europe/Berlin:20260414T094500
DTEND;TZID=Europe/Berlin:20260414T111500
DTSTAMP:20260421T221050
CREATED:20210907T161350Z
LAST-MODIFIED:20260126T095152Z
UID:1292-1776159900-1776165300@www.tanzschule-reh.de
SUMMARY:Anfängerkurs für Senioren
DESCRIPTION:
URL:https://www.tanzschule-reh.de/kurse/anfaengerkurs-fuer-senioren/
END:VEVENT
END:VCALENDAR