BEGIN:VCALENDAR
VERSION:2.0
PRODID:-//Tanzschule Reh Dresden - ECPv6.5.1.4//NONSGML v1.0//EN
CALSCALE:GREGORIAN
METHOD:PUBLISH
X-WR-CALNAME:Tanzschule Reh Dresden
X-ORIGINAL-URL:https://www.tanzschule-reh.de
X-WR-CALDESC:Veranstaltungen für Tanzschule Reh Dresden
REFRESH-INTERVAL;VALUE=DURATION:PT1H
X-Robots-Tag:noindex
X-PUBLISHED-TTL:PT1H
BEGIN:VTIMEZONE
TZID:Europe/Berlin
BEGIN:DAYLIGHT
TZOFFSETFROM:+0100
TZOFFSETTO:+0200
TZNAME:CEST
DTSTART:20260329T010000
END:DAYLIGHT
BEGIN:STANDARD
TZOFFSETFROM:+0200
TZOFFSETTO:+0100
TZNAME:CET
DTSTART:20261025T010000
END:STANDARD
END:VTIMEZONE
BEGIN:VEVENT
DTSTART;TZID=Europe/Berlin:20260413T181500
DTEND;TZID=Europe/Berlin:20260413T200000
DTSTAMP:20260421T220925
CREATED:20180427T120233Z
LAST-MODIFIED:20250930T073719Z
UID:358-1776104100-1776110400@www.tanzschule-reh.de
SUMMARY:Gesellschaftstanz für Anfänger
DESCRIPTION:
URL:https://www.tanzschule-reh.de/kurse/anfaengerkurs-2/
END:VEVENT
BEGIN:VEVENT
DTSTART;TZID=Europe/Berlin:20260413T200000
DTEND;TZID=Europe/Berlin:20260413T214500
DTSTAMP:20260421T220925
CREATED:20250930T073953Z
LAST-MODIFIED:20251010T065338Z
UID:82449-1776110400-1776116700@www.tanzschule-reh.de
SUMMARY:Gesellschaftstanz für Fortgeschrittene
DESCRIPTION:
URL:https://www.tanzschule-reh.de/kurse/gesellschaftstanz-fuer-fortgeschrittene-3/
END:VEVENT
END:VCALENDAR