BEGIN:VCALENDAR
VERSION:2.0
PRODID:-//Tanzschule Reh Dresden - ECPv6.5.1.4//NONSGML v1.0//EN
CALSCALE:GREGORIAN
METHOD:PUBLISH
X-ORIGINAL-URL:https://www.tanzschule-reh.de
X-WR-CALDESC:Veranstaltungen für Tanzschule Reh Dresden
REFRESH-INTERVAL;VALUE=DURATION:PT1H
X-Robots-Tag:noindex
X-PUBLISHED-TTL:PT1H
BEGIN:VTIMEZONE
TZID:Europe/Berlin
BEGIN:DAYLIGHT
TZOFFSETFROM:+0100
TZOFFSETTO:+0200
TZNAME:CEST
DTSTART:20260329T010000
END:DAYLIGHT
BEGIN:STANDARD
TZOFFSETFROM:+0200
TZOFFSETTO:+0100
TZNAME:CET
DTSTART:20261025T010000
END:STANDARD
END:VTIMEZONE
BEGIN:VEVENT
DTSTART;TZID=Europe/Berlin:20260306T100000
DTEND;TZID=Europe/Berlin:20260306T110000
DTSTAMP:20260422T033513
CREATED:20241031T122250Z
LAST-MODIFIED:20260121T100555Z
UID:82335-1772791200-1772794800@www.tanzschule-reh.de
SUMMARY:Fitnesstanz Mawiba
DESCRIPTION:
URL:https://www.tanzschule-reh.de/kurse/fitnesstanz-mawiba-2/
END:VEVENT
BEGIN:VEVENT
DTSTART;TZID=Europe/Berlin:20260306T184500
DTEND;TZID=Europe/Berlin:20260306T193000
DTSTAMP:20260422T033513
CREATED:20221115T140907Z
LAST-MODIFIED:20250930T081234Z
UID:14408-1772822700-1772825400@www.tanzschule-reh.de
SUMMARY:Cha Cha Cha und Rumba für Anfänger
DESCRIPTION:
URL:https://www.tanzschule-reh.de/kurse/cha-cha-cha-und-rumba-fuer-anfaenger-2/
END:VEVENT
END:VCALENDAR